BEGIN:VCALENDAR
VERSION:2.0
PRODID:-//www.whitefieldcc.com//NONSGML kigkonsult.se iCalcreator 2.39.1//
CALSCALE:GREGORIAN
METHOD:PUBLISH
UID:1767a515-e48c-453a-a8d3-f74d905f154d
X-WR-CALNAME:www.whitefieldcc.com
X-WR-CALDESC:www.whitefieldcc.com
X-WR-TIMEZONE:America/Los_Angeles
X-LIC-LOCATION:America/Los_Angeles
BEGIN:VEVENT
UID:6aa09190-4682-45e7-82c6-6be0a7aa47f8
DTSTAMP:20260421T150513Z
CLASS:PUBLIC
DTSTART;TZID=America/Los_Angeles:20260423T153000
DTEND;TZID=America/Los_Angeles:20260423T170000
SUMMARY:Food Pantry
TRANSP:OPAQUE
BEGIN:VALARM
ACTION:DISPLAY
DESCRIPTION:Food Pantry
TRIGGER:-PT15M
END:VALARM
END:VEVENT
END:VCALENDAR
